BEGIN:VCALENDAR
VERSION:2.0
PRODID:-//miravenhill.org//NONSGML kigkonsult.se iCalcreator 2.30.10//
CALSCALE:GREGORIAN
METHOD:PUBLISH
UID:cb5ac464-69a0-468a-afa2-0c5a9be25b2d
X-WR-CALDESC:
X-WR-RELCALID:7a21b8fb273240fbb70f663c15711a33
X-WR-TIMEZONE:America/New_York
BEGIN:VTIMEZONE
TZID:America/New_York
BEGIN:STANDARD
TZNAME:EST
DTSTART:20301103T020000
TZOFFSETFROM:-0400
TZOFFSETTO:-0500
RDATE:20311102T020000
END:STANDARD
BEGIN:DAYLIGHT
TZNAME:EDT
DTSTART:20300310T020000
TZOFFSETFROM:-0500
TZOFFSETTO:-0400
RDATE:20310309T020000
RDATE:20320314T020000
END:DAYLIGHT
END:VTIMEZONE
BEGIN:VEVENT
UID:fa689b65-eab6-436f-a97d-d160eeeef141
DTSTAMP:20260423T003347Z
DESCRIPTION:
DTSTART;TZID=America/New_York:20301208T140000
DTEND;TZID=America/New_York:20301208T160000
LOCATION:
SUMMARY:Open hours
END:VEVENT
END:VCALENDAR
