BEGIN:VCALENDAR
VERSION:2.0
PRODID:-//miravenhill.org//NONSGML kigkonsult.se iCalcreator 2.30.10//
CALSCALE:GREGORIAN
METHOD:PUBLISH
UID:ebfbbeb9-48ff-4c7f-b8ad-41c2fba6664a
X-WR-CALDESC:
X-WR-RELCALID:1500b23bb41b616a166fe7bdfad20926
X-WR-TIMEZONE:America/New_York
BEGIN:VTIMEZONE
TZID:America/New_York
BEGIN:STANDARD
TZNAME:EST
DTSTART:20301103T020000
TZOFFSETFROM:-0400
TZOFFSETTO:-0500
RDATE:20311102T020000
END:STANDARD
BEGIN:DAYLIGHT
TZNAME:EDT
DTSTART:20300310T020000
TZOFFSETFROM:-0500
TZOFFSETTO:-0400
RDATE:20310309T020000
RDATE:20320314T020000
END:DAYLIGHT
END:VTIMEZONE
BEGIN:VEVENT
UID:6f4a35ca-d9de-44ef-bda1-1b4cf25b79f1
DTSTAMP:20260422T231627Z
DESCRIPTION:
DTSTART;TZID=America/New_York:20301124T140000
DTEND;TZID=America/New_York:20301124T160000
LOCATION:
SUMMARY:Open hours
END:VEVENT
END:VCALENDAR
