BEGIN:VCALENDAR
VERSION:2.0
PRODID:-//miravenhill.org//NONSGML kigkonsult.se iCalcreator 2.30.10//
CALSCALE:GREGORIAN
METHOD:PUBLISH
UID:2c23da2d-1ffb-4d04-8bb4-dadb7924b617
X-WR-CALDESC:
X-WR-RELCALID:5c566eba9823372a1560b7b9974ab6b6
X-WR-TIMEZONE:America/New_York
BEGIN:VTIMEZONE
TZID:America/New_York
BEGIN:STANDARD
TZNAME:EST
DTSTART:20301103T020000
TZOFFSETFROM:-0400
TZOFFSETTO:-0500
RDATE:20311102T020000
END:STANDARD
BEGIN:DAYLIGHT
TZNAME:EDT
DTSTART:20300310T020000
TZOFFSETFROM:-0500
TZOFFSETTO:-0400
RDATE:20310309T020000
RDATE:20320314T020000
END:DAYLIGHT
END:VTIMEZONE
BEGIN:VEVENT
UID:51f06d92-6723-4451-9b8c-23b92bad5dc1
DTSTAMP:20260422T231823Z
DESCRIPTION:
DTSTART;TZID=America/New_York:20301124T000000
DTEND;TZID=America/New_York:20301124T235900
LOCATION:
SUMMARY:Thanksgiving hours by appointment
END:VEVENT
END:VCALENDAR
