BEGIN:VCALENDAR
VERSION:2.0
PRODID:-//miravenhill.org//NONSGML kigkonsult.se iCalcreator 2.30.10//
CALSCALE:GREGORIAN
METHOD:PUBLISH
UID:01da4fd7-73a6-4af6-a2ba-3b531f2533c8
X-WR-CALDESC:
X-WR-RELCALID:8c042cfa3c65431df50be0a9c96e2e3b
X-WR-TIMEZONE:America/New_York
BEGIN:VTIMEZONE
TZID:America/New_York
BEGIN:STANDARD
TZNAME:EST
DTSTART:20301103T020000
TZOFFSETFROM:-0400
TZOFFSETTO:-0500
RDATE:20311102T020000
END:STANDARD
BEGIN:DAYLIGHT
TZNAME:EDT
DTSTART:20300310T020000
TZOFFSETFROM:-0500
TZOFFSETTO:-0400
RDATE:20310309T020000
RDATE:20320314T020000
END:DAYLIGHT
END:VTIMEZONE
BEGIN:VEVENT
UID:5e401b21-7e77-4380-8794-acbb244ceacf
DTSTAMP:20260422T231627Z
DESCRIPTION:
DTSTART;TZID=America/New_York:20301117T140000
DTEND;TZID=America/New_York:20301117T160000
LOCATION:
SUMMARY:Open hours
END:VEVENT
END:VCALENDAR
