BEGIN:VCALENDAR
VERSION:2.0
PRODID:-//miravenhill.org//NONSGML kigkonsult.se iCalcreator 2.30.10//
CALSCALE:GREGORIAN
METHOD:PUBLISH
UID:4b1c37ce-073c-43b5-bba0-94bb9896445d
X-WR-CALDESC:
X-WR-RELCALID:111d356c2206b382f6bb25725ffa9b86
X-WR-TIMEZONE:America/New_York
BEGIN:VTIMEZONE
TZID:America/New_York
BEGIN:STANDARD
TZNAME:EST
DTSTART:20301103T020000
TZOFFSETFROM:-0400
TZOFFSETTO:-0500
RDATE:20311102T020000
END:STANDARD
BEGIN:DAYLIGHT
TZNAME:EDT
DTSTART:20300310T020000
TZOFFSETFROM:-0500
TZOFFSETTO:-0400
RDATE:20310309T020000
RDATE:20320314T020000
END:DAYLIGHT
END:VTIMEZONE
BEGIN:VEVENT
UID:7e14e1a4-ef97-442c-85bf-719ea58ac5cb
DTSTAMP:20260422T231528Z
DESCRIPTION:
DTSTART;TZID=America/New_York:20301110T140000
DTEND;TZID=America/New_York:20301110T160000
LOCATION:
SUMMARY:Open hours
END:VEVENT
END:VCALENDAR
