BEGIN:VCALENDAR
VERSION:2.0
PRODID:-//miravenhill.org//NONSGML kigkonsult.se iCalcreator 2.30.10//
CALSCALE:GREGORIAN
METHOD:PUBLISH
UID:febc7d3e-1abd-4792-814c-f12170c1d0f4
X-WR-CALDESC:
X-WR-RELCALID:47c9aa4cd7794b53cbb769d4cba0521f
X-WR-TIMEZONE:America/New_York
BEGIN:VTIMEZONE
TZID:America/New_York
BEGIN:STANDARD
TZNAME:EST
DTSTART:20291104T020000
TZOFFSETFROM:-0400
TZOFFSETTO:-0500
RDATE:20301103T020000
RDATE:20311102T020000
END:STANDARD
BEGIN:DAYLIGHT
TZNAME:EDT
DTSTART:20300310T020000
TZOFFSETFROM:-0500
TZOFFSETTO:-0400
RDATE:20310309T020000
RDATE:20320314T020000
END:DAYLIGHT
END:VTIMEZONE
BEGIN:VEVENT
UID:1241919d-ad90-4c43-9cdb-67b98b9f2dc6
DTSTAMP:20260422T231453Z
DESCRIPTION:
DTSTART;TZID=America/New_York:20301103T140000
DTEND;TZID=America/New_York:20301103T160000
LOCATION:
SUMMARY:Open hours
END:VEVENT
END:VCALENDAR
