BEGIN:VCALENDAR
VERSION:2.0
PRODID:-//miravenhill.org//NONSGML kigkonsult.se iCalcreator 2.30.10//
CALSCALE:GREGORIAN
METHOD:PUBLISH
UID:d9857167-a686-40a6-836d-40a3bc7cd279
X-WR-CALDESC:
X-WR-RELCALID:8e616c67bb43ae96dc80151f0f1e1cac
X-WR-TIMEZONE:America/New_York
BEGIN:VTIMEZONE
TZID:America/New_York
BEGIN:STANDARD
TZNAME:EST
DTSTART:20291104T020000
TZOFFSETFROM:-0400
TZOFFSETTO:-0500
RDATE:20301103T020000
RDATE:20311102T020000
END:STANDARD
BEGIN:DAYLIGHT
TZNAME:EDT
DTSTART:20300310T020000
TZOFFSETFROM:-0500
TZOFFSETTO:-0400
RDATE:20310309T020000
RDATE:20320314T020000
END:DAYLIGHT
END:VTIMEZONE
BEGIN:VEVENT
UID:50b7a13b-dd27-4a23-9a2f-8b81b25df5e6
DTSTAMP:20260422T215712Z
DESCRIPTION:
DTSTART;TZID=America/New_York:20301027T140000
DTEND;TZID=America/New_York:20301027T160000
LOCATION:
SUMMARY:Open hours
END:VEVENT
END:VCALENDAR
