BEGIN:VCALENDAR
VERSION:2.0
PRODID:-//miravenhill.org//NONSGML kigkonsult.se iCalcreator 2.30.10//
CALSCALE:GREGORIAN
METHOD:PUBLISH
UID:09274a72-966e-4530-9c91-1a594b2f1fe0
X-WR-CALDESC:
X-WR-RELCALID:290f98522f6fd97db24f9826474bb52c
X-WR-TIMEZONE:America/New_York
BEGIN:VTIMEZONE
TZID:America/New_York
BEGIN:STANDARD
TZNAME:EST
DTSTART:20291104T020000
TZOFFSETFROM:-0400
TZOFFSETTO:-0500
RDATE:20301103T020000
RDATE:20311102T020000
END:STANDARD
BEGIN:DAYLIGHT
TZNAME:EDT
DTSTART:20300310T020000
TZOFFSETFROM:-0500
TZOFFSETTO:-0400
RDATE:20310309T020000
RDATE:20320314T020000
END:DAYLIGHT
END:VTIMEZONE
BEGIN:VEVENT
UID:d01ad79a-0531-4ebe-bd67-4bca100e9ae2
DTSTAMP:20260422T215609Z
DESCRIPTION:
DTSTART;TZID=America/New_York:20301020T140000
DTEND;TZID=America/New_York:20301020T160000
LOCATION:
SUMMARY:Open hours
END:VEVENT
END:VCALENDAR
