BEGIN:VCALENDAR
VERSION:2.0
PRODID:-//miravenhill.org//NONSGML kigkonsult.se iCalcreator 2.30.10//
CALSCALE:GREGORIAN
METHOD:PUBLISH
UID:52e0917f-4def-488a-9618-b2131fa346d9
X-WR-CALDESC:
X-WR-RELCALID:8c1d1c2e40bd6b2a92b4fc61445b87d0
X-WR-TIMEZONE:America/New_York
BEGIN:VTIMEZONE
TZID:America/New_York
BEGIN:STANDARD
TZNAME:EST
DTSTART:20291104T020000
TZOFFSETFROM:-0400
TZOFFSETTO:-0500
RDATE:20301103T020000
RDATE:20311102T020000
END:STANDARD
BEGIN:DAYLIGHT
TZNAME:EDT
DTSTART:20300310T020000
TZOFFSETFROM:-0500
TZOFFSETTO:-0400
RDATE:20310309T020000
RDATE:20320314T020000
END:DAYLIGHT
END:VTIMEZONE
BEGIN:VEVENT
UID:804f3bec-fdaf-43c2-b6d1-9302b17c6f64
DTSTAMP:20260422T215229Z
DESCRIPTION:
DTSTART;TZID=America/New_York:20301013T140000
DTEND;TZID=America/New_York:20301013T160000
LOCATION:
SUMMARY:Open hours
END:VEVENT
END:VCALENDAR
