BEGIN:VCALENDAR
VERSION:2.0
PRODID:-//miravenhill.org//NONSGML kigkonsult.se iCalcreator 2.30.10//
CALSCALE:GREGORIAN
METHOD:PUBLISH
UID:294363e9-567e-4ea7-bf64-4b2c6c1bb763
X-WR-CALDESC:
X-WR-RELCALID:ea0b8f16a431f3da5e2bcee8cd578059
X-WR-TIMEZONE:America/New_York
BEGIN:VTIMEZONE
TZID:America/New_York
BEGIN:STANDARD
TZNAME:EST
DTSTART:20291104T020000
TZOFFSETFROM:-0400
TZOFFSETTO:-0500
RDATE:20301103T020000
RDATE:20311102T020000
END:STANDARD
BEGIN:DAYLIGHT
TZNAME:EDT
DTSTART:20300310T020000
TZOFFSETFROM:-0500
TZOFFSETTO:-0400
RDATE:20310309T020000
RDATE:20320314T020000
END:DAYLIGHT
END:VTIMEZONE
BEGIN:VEVENT
UID:227f4457-ea5c-49ec-9786-7bce4a7ce064
DTSTAMP:20260422T215500Z
DESCRIPTION:
DTSTART;TZID=America/New_York:20301006T140000
DTEND;TZID=America/New_York:20301006T160000
LOCATION:
SUMMARY:Open hours
END:VEVENT
END:VCALENDAR
