BEGIN:VCALENDAR
VERSION:2.0
PRODID:-//miravenhill.org//NONSGML kigkonsult.se iCalcreator 2.30.10//
CALSCALE:GREGORIAN
METHOD:PUBLISH
UID:5420c9f1-2f81-4a89-b5e4-a7b0d6bb1484
X-WR-CALDESC:
X-WR-RELCALID:79c9723767d03a0c3ab92258ae4175d0
X-WR-TIMEZONE:America/New_York
BEGIN:VTIMEZONE
TZID:America/New_York
BEGIN:STANDARD
TZNAME:EST
DTSTART:20291104T020000
TZOFFSETFROM:-0400
TZOFFSETTO:-0500
RDATE:20301103T020000
RDATE:20311102T020000
END:STANDARD
BEGIN:DAYLIGHT
TZNAME:EDT
DTSTART:20300310T020000
TZOFFSETFROM:-0500
TZOFFSETTO:-0400
RDATE:20310309T020000
RDATE:20320314T020000
END:DAYLIGHT
END:VTIMEZONE
BEGIN:VEVENT
UID:690d876d-ad6f-4e3b-8a4e-484a504e6ae9
DTSTAMP:20260422T204438Z
DESCRIPTION:
DTSTART;TZID=America/New_York:20300929T140000
DTEND;TZID=America/New_York:20300929T160000
LOCATION:
SUMMARY:Open hours
END:VEVENT
END:VCALENDAR
