BEGIN:VCALENDAR
VERSION:2.0
PRODID:-//miravenhill.org//NONSGML kigkonsult.se iCalcreator 2.30.10//
CALSCALE:GREGORIAN
METHOD:PUBLISH
UID:9fc9ab34-b920-4fde-9cab-3f602f118743
X-WR-CALDESC:
X-WR-RELCALID:8df3bc679f299051eab6300752fe73a9
X-WR-TIMEZONE:America/New_York
BEGIN:VTIMEZONE
TZID:America/New_York
BEGIN:STANDARD
TZNAME:EST
DTSTART:20291104T020000
TZOFFSETFROM:-0400
TZOFFSETTO:-0500
RDATE:20301103T020000
RDATE:20311102T020000
END:STANDARD
BEGIN:DAYLIGHT
TZNAME:EDT
DTSTART:20300310T020000
TZOFFSETFROM:-0500
TZOFFSETTO:-0400
RDATE:20310309T020000
RDATE:20320314T020000
END:DAYLIGHT
END:VTIMEZONE
BEGIN:VEVENT
UID:849daf1f-0b0d-429a-9b01-4c017e82ea1d
DTSTAMP:20260422T203755Z
DESCRIPTION:
DTSTART;TZID=America/New_York:20300915T140000
DTEND;TZID=America/New_York:20300915T160000
LOCATION:
SUMMARY:Open hours
END:VEVENT
END:VCALENDAR
