BEGIN:VCALENDAR
VERSION:2.0
PRODID:-//miravenhill.org//NONSGML kigkonsult.se iCalcreator 2.30.10//
CALSCALE:GREGORIAN
METHOD:PUBLISH
UID:848252c6-c47d-4466-adde-9b34e15bf49b
X-WR-CALDESC:
X-WR-RELCALID:b9de1430ef26885cd72b3fe02bc3128a
X-WR-TIMEZONE:America/New_York
BEGIN:VTIMEZONE
TZID:America/New_York
BEGIN:STANDARD
TZNAME:EST
DTSTART:20291104T020000
TZOFFSETFROM:-0400
TZOFFSETTO:-0500
RDATE:20301103T020000
RDATE:20311102T020000
END:STANDARD
BEGIN:DAYLIGHT
TZNAME:EDT
DTSTART:20300310T020000
TZOFFSETFROM:-0500
TZOFFSETTO:-0400
RDATE:20310309T020000
END:DAYLIGHT
END:VTIMEZONE
BEGIN:VEVENT
UID:e3226f26-a39a-4849-8842-c0178bd3dedd
DTSTAMP:20260422T204008Z
DESCRIPTION:
DTSTART;TZID=America/New_York:20300908T140000
DTEND;TZID=America/New_York:20300908T160000
LOCATION:
SUMMARY:Open hours
END:VEVENT
END:VCALENDAR
