BEGIN:VCALENDAR
VERSION:2.0
PRODID:-//miravenhill.org//NONSGML kigkonsult.se iCalcreator 2.30.10//
CALSCALE:GREGORIAN
METHOD:PUBLISH
UID:5688ae3c-bfdb-49d6-8b7f-c638738d09b8
X-WR-CALDESC:
X-WR-RELCALID:2473ff446ccbc3be6367188691359bef
X-WR-TIMEZONE:America/New_York
BEGIN:VTIMEZONE
TZID:America/New_York
BEGIN:STANDARD
TZNAME:EST
DTSTART:20291104T020000
TZOFFSETFROM:-0400
TZOFFSETTO:-0500
RDATE:20301103T020000
RDATE:20311102T020000
END:STANDARD
BEGIN:DAYLIGHT
TZNAME:EDT
DTSTART:20300310T020000
TZOFFSETFROM:-0500
TZOFFSETTO:-0400
RDATE:20310309T020000
END:DAYLIGHT
END:VTIMEZONE
BEGIN:VEVENT
UID:5a66829d-1bdd-47ef-a1c7-15f95f7f37e1
DTSTAMP:20260422T204554Z
DESCRIPTION:
DTSTART;TZID=America/New_York:20300901T140000
DTEND;TZID=America/New_York:20300901T160000
LOCATION:
SUMMARY:Open hours
END:VEVENT
END:VCALENDAR
