BEGIN:VCALENDAR
VERSION:2.0
PRODID:-//miravenhill.org//NONSGML kigkonsult.se iCalcreator 2.30.10//
CALSCALE:GREGORIAN
METHOD:PUBLISH
UID:17505aed-e297-451c-b652-9878f7de808d
X-WR-CALDESC:
X-WR-RELCALID:6f01ce5dce0ca92a9796faf639b22d47
X-WR-TIMEZONE:America/New_York
BEGIN:VTIMEZONE
TZID:America/New_York
BEGIN:STANDARD
TZNAME:EST
DTSTART:20291104T020000
TZOFFSETFROM:-0400
TZOFFSETTO:-0500
RDATE:20301103T020000
RDATE:20311102T020000
END:STANDARD
BEGIN:DAYLIGHT
TZNAME:EDT
DTSTART:20300310T020000
TZOFFSETFROM:-0500
TZOFFSETTO:-0400
RDATE:20310309T020000
END:DAYLIGHT
END:VTIMEZONE
BEGIN:VEVENT
UID:e2128eb9-7769-4ea8-af80-f8938e18f5e7
DTSTAMP:20260422T192310Z
DESCRIPTION:
DTSTART;TZID=America/New_York:20300818T140000
DTEND;TZID=America/New_York:20300818T160000
LOCATION:
SUMMARY:Open hours
END:VEVENT
END:VCALENDAR
