BEGIN:VCALENDAR
VERSION:2.0
PRODID:-//miravenhill.org//NONSGML kigkonsult.se iCalcreator 2.30.10//
CALSCALE:GREGORIAN
METHOD:PUBLISH
UID:bc1b5fca-466a-423e-8d0f-b50310ac25ec
X-WR-CALDESC:
X-WR-RELCALID:cdfed9c624eca56d1205f6e7546e037e
X-WR-TIMEZONE:America/New_York
BEGIN:VTIMEZONE
TZID:America/New_York
BEGIN:STANDARD
TZNAME:EST
DTSTART:20291104T020000
TZOFFSETFROM:-0400
TZOFFSETTO:-0500
RDATE:20301103T020000
RDATE:20311102T020000
END:STANDARD
BEGIN:DAYLIGHT
TZNAME:EDT
DTSTART:20300310T020000
TZOFFSETFROM:-0500
TZOFFSETTO:-0400
RDATE:20310309T020000
END:DAYLIGHT
END:VTIMEZONE
BEGIN:VEVENT
UID:427cac98-fbd2-4fe7-aaf5-3c6332268ea4
DTSTAMP:20260422T190816Z
DESCRIPTION:
DTSTART;TZID=America/New_York:20300811T140000
DTEND;TZID=America/New_York:20300811T160000
LOCATION:
SUMMARY:Open hours
END:VEVENT
END:VCALENDAR
