BEGIN:VCALENDAR
VERSION:2.0
PRODID:-//miravenhill.org//NONSGML kigkonsult.se iCalcreator 2.30.10//
CALSCALE:GREGORIAN
METHOD:PUBLISH
UID:c0f79869-6ef6-47e9-bd3f-c408d4cd815d
X-WR-CALDESC:
X-WR-RELCALID:2849b22bfa132f36d5f2f4f220d2f30a
X-WR-TIMEZONE:America/New_York
BEGIN:VTIMEZONE
TZID:America/New_York
BEGIN:STANDARD
TZNAME:EST
DTSTART:20291104T020000
TZOFFSETFROM:-0400
TZOFFSETTO:-0500
RDATE:20301103T020000
RDATE:20311102T020000
END:STANDARD
BEGIN:DAYLIGHT
TZNAME:EDT
DTSTART:20300310T020000
TZOFFSETFROM:-0500
TZOFFSETTO:-0400
RDATE:20310309T020000
END:DAYLIGHT
END:VTIMEZONE
BEGIN:VEVENT
UID:3ad8fd63-e5d0-4a5f-91fe-39c518c578a9
DTSTAMP:20260422T191551Z
DESCRIPTION:
DTSTART;TZID=America/New_York:20300804T140000
DTEND;TZID=America/New_York:20300804T160000
LOCATION:
SUMMARY:Open hours
END:VEVENT
END:VCALENDAR
