BEGIN:VCALENDAR
VERSION:2.0
PRODID:-//miravenhill.org//NONSGML kigkonsult.se iCalcreator 2.30.10//
CALSCALE:GREGORIAN
METHOD:PUBLISH
UID:f8392cdf-bf38-4d0e-96a5-554cc3a7181f
X-WR-CALDESC:
X-WR-RELCALID:14ce41efb7028748af53c21ccedf177a
X-WR-TIMEZONE:America/New_York
BEGIN:VTIMEZONE
TZID:America/New_York
BEGIN:STANDARD
TZNAME:EST
DTSTART:20291104T020000
TZOFFSETFROM:-0400
TZOFFSETTO:-0500
RDATE:20301103T020000
RDATE:20311102T020000
END:STANDARD
BEGIN:DAYLIGHT
TZNAME:EDT
DTSTART:20300310T020000
TZOFFSETFROM:-0500
TZOFFSETTO:-0400
RDATE:20310309T020000
END:DAYLIGHT
END:VTIMEZONE
BEGIN:VEVENT
UID:03fb1c68-5347-49f2-b6e0-709220d66586
DTSTAMP:20260422T175034Z
DESCRIPTION:
DTSTART;TZID=America/New_York:20300728T140000
DTEND;TZID=America/New_York:20300728T160000
LOCATION:
SUMMARY:Open hours
END:VEVENT
END:VCALENDAR
