BEGIN:VCALENDAR
VERSION:2.0
PRODID:-//miravenhill.org//NONSGML kigkonsult.se iCalcreator 2.30.10//
CALSCALE:GREGORIAN
METHOD:PUBLISH
UID:b0129542-7350-43e5-aed6-7c3e884671d9
X-WR-CALDESC:
X-WR-RELCALID:564f9a78ba2586f2058f88fa11f694f5
X-WR-TIMEZONE:America/New_York
BEGIN:VTIMEZONE
TZID:America/New_York
BEGIN:STANDARD
TZNAME:EST
DTSTART:20291104T020000
TZOFFSETFROM:-0400
TZOFFSETTO:-0500
RDATE:20301103T020000
RDATE:20311102T020000
END:STANDARD
BEGIN:DAYLIGHT
TZNAME:EDT
DTSTART:20300310T020000
TZOFFSETFROM:-0500
TZOFFSETTO:-0400
RDATE:20310309T020000
END:DAYLIGHT
END:VTIMEZONE
BEGIN:VEVENT
UID:66396854-f977-4e56-9dc3-4b476d6ebab7
DTSTAMP:20260422T174644Z
DESCRIPTION:
DTSTART;TZID=America/New_York:20300721T140000
DTEND;TZID=America/New_York:20300721T160000
LOCATION:
SUMMARY:Open hours
END:VEVENT
END:VCALENDAR
