BEGIN:VCALENDAR
VERSION:2.0
PRODID:-//miravenhill.org//NONSGML kigkonsult.se iCalcreator 2.30.10//
CALSCALE:GREGORIAN
METHOD:PUBLISH
UID:85f73145-b9f3-4e2d-a61b-4a4d910dfb18
X-WR-CALDESC:
X-WR-RELCALID:e135265697ef808419b889d05503e622
X-WR-TIMEZONE:America/New_York
BEGIN:VTIMEZONE
TZID:America/New_York
BEGIN:STANDARD
TZNAME:EST
DTSTART:20291104T020000
TZOFFSETFROM:-0400
TZOFFSETTO:-0500
RDATE:20301103T020000
RDATE:20311102T020000
END:STANDARD
BEGIN:DAYLIGHT
TZNAME:EDT
DTSTART:20300310T020000
TZOFFSETFROM:-0500
TZOFFSETTO:-0400
RDATE:20310309T020000
END:DAYLIGHT
END:VTIMEZONE
BEGIN:VEVENT
UID:908146f7-2b72-4d60-9df9-870fc05ce706
DTSTAMP:20260422T175121Z
DESCRIPTION:
DTSTART;TZID=America/New_York:20300714T140000
DTEND;TZID=America/New_York:20300714T160000
LOCATION:
SUMMARY:Open hours
END:VEVENT
END:VCALENDAR
