BEGIN:VCALENDAR
VERSION:2.0
PRODID:-//miravenhill.org//NONSGML kigkonsult.se iCalcreator 2.30.10//
CALSCALE:GREGORIAN
METHOD:PUBLISH
UID:1cec4473-8a20-4ba1-9e73-756522e904d6
X-WR-CALDESC:
X-WR-RELCALID:c40f55db98a6f532369996d1cf27bc86
X-WR-TIMEZONE:America/New_York
BEGIN:VTIMEZONE
TZID:America/New_York
BEGIN:STANDARD
TZNAME:EST
DTSTART:20291104T020000
TZOFFSETFROM:-0400
TZOFFSETTO:-0500
RDATE:20301103T020000
RDATE:20311102T020000
END:STANDARD
BEGIN:DAYLIGHT
TZNAME:EDT
DTSTART:20300310T020000
TZOFFSETFROM:-0500
TZOFFSETTO:-0400
RDATE:20310309T020000
END:DAYLIGHT
END:VTIMEZONE
BEGIN:VEVENT
UID:20bfd00f-cb42-4161-8868-037c98c30db0
DTSTAMP:20260422T175414Z
DESCRIPTION:
DTSTART;TZID=America/New_York:20300704T000000
DTEND;TZID=America/New_York:20300704T235900
LOCATION:
SUMMARY:Fourth of July hours by appointment
END:VEVENT
END:VCALENDAR
