BEGIN:VCALENDAR
VERSION:2.0
PRODID:-//miravenhill.org//NONSGML kigkonsult.se iCalcreator 2.30.10//
CALSCALE:GREGORIAN
METHOD:PUBLISH
UID:efa6159a-9a70-46fd-b574-c2721a3569a1
X-WR-CALDESC:
X-WR-RELCALID:b69e6f24a73caae2d1062512e3fa36a4
X-WR-TIMEZONE:America/New_York
BEGIN:VTIMEZONE
TZID:America/New_York
BEGIN:STANDARD
TZNAME:EST
DTSTART:20291104T020000
TZOFFSETFROM:-0400
TZOFFSETTO:-0500
RDATE:20301103T020000
RDATE:20311102T020000
END:STANDARD
BEGIN:DAYLIGHT
TZNAME:EDT
DTSTART:20300310T020000
TZOFFSETFROM:-0500
TZOFFSETTO:-0400
RDATE:20310309T020000
END:DAYLIGHT
END:VTIMEZONE
BEGIN:VEVENT
UID:d1a006b4-9a67-4f49-ba52-3f1e7e86b834
DTSTAMP:20260422T160654Z
DESCRIPTION:
DTSTART;TZID=America/New_York:20300630T140000
DTEND;TZID=America/New_York:20300630T160000
LOCATION:
SUMMARY:Open hours
END:VEVENT
END:VCALENDAR
