BEGIN:VCALENDAR
VERSION:2.0
PRODID:-//miravenhill.org//NONSGML kigkonsult.se iCalcreator 2.30.10//
CALSCALE:GREGORIAN
METHOD:PUBLISH
UID:007a0667-6cde-4e78-a3a1-80ab4a76cc17
X-WR-CALDESC:
X-WR-RELCALID:042e9974776ff772ab4fc59e73277c53
X-WR-TIMEZONE:America/New_York
BEGIN:VTIMEZONE
TZID:America/New_York
BEGIN:STANDARD
TZNAME:EST
DTSTART:20291104T020000
TZOFFSETFROM:-0400
TZOFFSETTO:-0500
RDATE:20301103T020000
RDATE:20311102T020000
END:STANDARD
BEGIN:DAYLIGHT
TZNAME:EDT
DTSTART:20300310T020000
TZOFFSETFROM:-0500
TZOFFSETTO:-0400
RDATE:20310309T020000
END:DAYLIGHT
END:VTIMEZONE
BEGIN:VEVENT
UID:1243a850-52de-46a9-971c-5fd4720c4e05
DTSTAMP:20260422T161706Z
DESCRIPTION:
DTSTART;TZID=America/New_York:20300623T140000
DTEND;TZID=America/New_York:20300623T160000
LOCATION:
SUMMARY:Open hours
END:VEVENT
END:VCALENDAR
