BEGIN:VCALENDAR
VERSION:2.0
PRODID:-//miravenhill.org//NONSGML kigkonsult.se iCalcreator 2.30.10//
CALSCALE:GREGORIAN
METHOD:PUBLISH
UID:92feacab-62a1-4cf4-b18b-cab739f182c0
X-WR-CALDESC:
X-WR-RELCALID:4a09d16ee7c602bfb4ffa4e441397b2a
X-WR-TIMEZONE:America/New_York
BEGIN:VTIMEZONE
TZID:America/New_York
BEGIN:STANDARD
TZNAME:EST
DTSTART:20291104T020000
TZOFFSETFROM:-0400
TZOFFSETTO:-0500
RDATE:20301103T020000
RDATE:20311102T020000
END:STANDARD
BEGIN:DAYLIGHT
TZNAME:EDT
DTSTART:20300310T020000
TZOFFSETFROM:-0500
TZOFFSETTO:-0400
RDATE:20310309T020000
END:DAYLIGHT
END:VTIMEZONE
BEGIN:VEVENT
UID:e8398da5-9448-469a-88ab-7a7a6b13d4f0
DTSTAMP:20260422T160944Z
DESCRIPTION:
DTSTART;TZID=America/New_York:20300616T140000
DTEND;TZID=America/New_York:20300616T160000
LOCATION:
SUMMARY:Open hours
END:VEVENT
END:VCALENDAR
