BEGIN:VCALENDAR
VERSION:2.0
PRODID:-//miravenhill.org//NONSGML kigkonsult.se iCalcreator 2.30.10//
CALSCALE:GREGORIAN
METHOD:PUBLISH
UID:0bd25435-8f15-4770-8fed-81fdecc85783
X-WR-CALDESC:
X-WR-RELCALID:6f780c53a3f45aea478e650568273d52
X-WR-TIMEZONE:America/New_York
BEGIN:VTIMEZONE
TZID:America/New_York
BEGIN:STANDARD
TZNAME:EST
DTSTART:20291104T020000
TZOFFSETFROM:-0400
TZOFFSETTO:-0500
RDATE:20301103T020000
RDATE:20311102T020000
END:STANDARD
BEGIN:DAYLIGHT
TZNAME:EDT
DTSTART:20300310T020000
TZOFFSETFROM:-0500
TZOFFSETTO:-0400
RDATE:20310309T020000
END:DAYLIGHT
END:VTIMEZONE
BEGIN:VEVENT
UID:527b99a0-e6b9-4063-9610-dc6074f3f130
DTSTAMP:20260422T161824Z
DESCRIPTION:
DTSTART;TZID=America/New_York:20300609T140000
DTEND;TZID=America/New_York:20300609T160000
LOCATION:
SUMMARY:Open hours
END:VEVENT
END:VCALENDAR
