BEGIN:VCALENDAR
VERSION:2.0
PRODID:-//miravenhill.org//NONSGML kigkonsult.se iCalcreator 2.30.10//
CALSCALE:GREGORIAN
METHOD:PUBLISH
UID:ca38c9c4-bfd0-4c79-85a2-5e1a866253ed
X-WR-CALDESC:
X-WR-RELCALID:323d48f0d8814d20ea7b4ad990205ec6
X-WR-TIMEZONE:America/New_York
BEGIN:VTIMEZONE
TZID:America/New_York
BEGIN:STANDARD
TZNAME:EST
DTSTART:20291104T020000
TZOFFSETFROM:-0400
TZOFFSETTO:-0500
RDATE:20301103T020000
RDATE:20311102T020000
END:STANDARD
BEGIN:DAYLIGHT
TZNAME:EDT
DTSTART:20300310T020000
TZOFFSETFROM:-0500
TZOFFSETTO:-0400
RDATE:20310309T020000
END:DAYLIGHT
END:VTIMEZONE
BEGIN:VEVENT
UID:d7b30807-fd40-4021-b385-49b3a06845e2
DTSTAMP:20260422T160806Z
DESCRIPTION:
DTSTART;TZID=America/New_York:20300602T140000
DTEND;TZID=America/New_York:20300602T160000
LOCATION:
SUMMARY:Open hours
END:VEVENT
END:VCALENDAR
