BEGIN:VCALENDAR
VERSION:2.0
PRODID:-//miravenhill.org//NONSGML kigkonsult.se iCalcreator 2.30.10//
CALSCALE:GREGORIAN
METHOD:PUBLISH
UID:086007bb-a8ba-464c-83b7-a667fe593da8
X-WR-CALDESC:
X-WR-RELCALID:0ad2682c38c12f1d152f78e177500749
X-WR-TIMEZONE:America/New_York
BEGIN:VTIMEZONE
TZID:America/New_York
BEGIN:STANDARD
TZNAME:EST
DTSTART:20291104T020000
TZOFFSETFROM:-0400
TZOFFSETTO:-0500
RDATE:20301103T020000
RDATE:20311102T020000
END:STANDARD
BEGIN:DAYLIGHT
TZNAME:EDT
DTSTART:20300310T020000
TZOFFSETFROM:-0500
TZOFFSETTO:-0400
RDATE:20310309T020000
END:DAYLIGHT
END:VTIMEZONE
BEGIN:VEVENT
UID:508b1695-12a3-4027-bd45-16855b3a8dae
DTSTAMP:20260422T183623Z
DESCRIPTION:
DTSTART;TZID=America/New_York:20300528T120000
DTEND;TZID=America/New_York:20300528T160000
LOCATION:
SUMMARY:Memorial Day hours by appointment only
END:VEVENT
END:VCALENDAR
