BEGIN:VCALENDAR
VERSION:2.0
PRODID:-//miravenhill.org//NONSGML kigkonsult.se iCalcreator 2.30.10//
CALSCALE:GREGORIAN
METHOD:PUBLISH
UID:7419e8b5-0fd2-43ad-9b5e-0cdcc8e8e1c9
X-WR-CALDESC:
X-WR-RELCALID:d535040c77f0f76d2193f8f279cf1631
X-WR-TIMEZONE:America/New_York
BEGIN:VTIMEZONE
TZID:America/New_York
BEGIN:STANDARD
TZNAME:EST
DTSTART:20291104T020000
TZOFFSETFROM:-0400
TZOFFSETTO:-0500
RDATE:20301103T020000
RDATE:20311102T020000
END:STANDARD
BEGIN:DAYLIGHT
TZNAME:EDT
DTSTART:20300310T020000
TZOFFSETFROM:-0500
TZOFFSETTO:-0400
RDATE:20310309T020000
END:DAYLIGHT
END:VTIMEZONE
BEGIN:VEVENT
UID:28b44dae-9ff2-4074-b367-168c73f9df18
DTSTAMP:20260422T145331Z
DESCRIPTION:
DTSTART;TZID=America/New_York:20300526T140000
DTEND;TZID=America/New_York:20300526T160000
LOCATION:
SUMMARY:Open hours
END:VEVENT
END:VCALENDAR
