BEGIN:VCALENDAR
VERSION:2.0
PRODID:-//miravenhill.org//NONSGML kigkonsult.se iCalcreator 2.30.10//
CALSCALE:GREGORIAN
METHOD:PUBLISH
UID:85012b3a-faad-4cdc-a1b4-d495bd288a6e
X-WR-CALDESC:
X-WR-RELCALID:2802bf0f7d8b13e284c6cf93db6b40d2
X-WR-TIMEZONE:America/New_York
BEGIN:VTIMEZONE
TZID:America/New_York
BEGIN:STANDARD
TZNAME:EST
DTSTART:20291104T020000
TZOFFSETFROM:-0400
TZOFFSETTO:-0500
RDATE:20301103T020000
RDATE:20311102T020000
END:STANDARD
BEGIN:DAYLIGHT
TZNAME:EDT
DTSTART:20300310T020000
TZOFFSETFROM:-0500
TZOFFSETTO:-0400
RDATE:20310309T020000
END:DAYLIGHT
END:VTIMEZONE
BEGIN:VEVENT
UID:1ba58528-1c22-4e38-a3e3-99c4738f532d
DTSTAMP:20260422T144610Z
DESCRIPTION:
DTSTART;TZID=America/New_York:20300519T140000
DTEND;TZID=America/New_York:20300519T160000
LOCATION:
SUMMARY:Open hours
END:VEVENT
END:VCALENDAR
