BEGIN:VCALENDAR
VERSION:2.0
PRODID:-//miravenhill.org//NONSGML kigkonsult.se iCalcreator 2.30.10//
CALSCALE:GREGORIAN
METHOD:PUBLISH
UID:c9f4d292-521c-41e8-b827-333da087ef79
X-WR-CALDESC:
X-WR-RELCALID:86481cc2a80e0b05e32c983619ec2a1c
X-WR-TIMEZONE:America/New_York
BEGIN:VTIMEZONE
TZID:America/New_York
BEGIN:STANDARD
TZNAME:EST
DTSTART:20291104T020000
TZOFFSETFROM:-0400
TZOFFSETTO:-0500
RDATE:20301103T020000
RDATE:20311102T020000
END:STANDARD
BEGIN:DAYLIGHT
TZNAME:EDT
DTSTART:20300310T020000
TZOFFSETFROM:-0500
TZOFFSETTO:-0400
RDATE:20310309T020000
END:DAYLIGHT
END:VTIMEZONE
BEGIN:VEVENT
UID:f3cf8d53-fc33-4ebc-ab54-5a0dc93f2aa4
DTSTAMP:20260422T144755Z
DESCRIPTION:
DTSTART;TZID=America/New_York:20300518T120000
DTEND;TZID=America/New_York:20300518T160000
LOCATION:4737 Fuller Rd.\, East Jordan\, MI 49727 US
SUMMARY:Open hours
END:VEVENT
END:VCALENDAR
