BEGIN:VCALENDAR
VERSION:2.0
PRODID:-//miravenhill.org//NONSGML kigkonsult.se iCalcreator 2.30.10//
CALSCALE:GREGORIAN
METHOD:PUBLISH
UID:f64a723b-8c03-4ccb-93e4-960e9ddfe010
X-WR-CALDESC:
X-WR-RELCALID:7107d8a9bf084b04f54c71d241b71975
X-WR-TIMEZONE:America/New_York
BEGIN:VTIMEZONE
TZID:America/New_York
BEGIN:STANDARD
TZNAME:EST
DTSTART:20291104T020000
TZOFFSETFROM:-0400
TZOFFSETTO:-0500
RDATE:20301103T020000
RDATE:20311102T020000
END:STANDARD
BEGIN:DAYLIGHT
TZNAME:EDT
DTSTART:20300310T020000
TZOFFSETFROM:-0500
TZOFFSETTO:-0400
RDATE:20310309T020000
END:DAYLIGHT
END:VTIMEZONE
BEGIN:VEVENT
UID:10b14601-4b4c-4df1-a8af-f91c118abbc2
DTSTAMP:20260422T144936Z
DESCRIPTION:
DTSTART;TZID=America/New_York:20300512T140000
DTEND;TZID=America/New_York:20300512T160000
LOCATION:
SUMMARY:Open hours
END:VEVENT
END:VCALENDAR
