BEGIN:VCALENDAR
VERSION:2.0
PRODID:-//miravenhill.org//NONSGML kigkonsult.se iCalcreator 2.30.10//
CALSCALE:GREGORIAN
METHOD:PUBLISH
UID:853f2a4f-5d5c-4275-a7b2-7f02ad52ab11
X-WR-CALDESC:
X-WR-RELCALID:d35cf560524a38df18e234445bb0dd41
X-WR-TIMEZONE:America/New_York
BEGIN:VTIMEZONE
TZID:America/New_York
BEGIN:STANDARD
TZNAME:EST
DTSTART:20291104T020000
TZOFFSETFROM:-0400
TZOFFSETTO:-0500
RDATE:20301103T020000
END:STANDARD
BEGIN:DAYLIGHT
TZNAME:EDT
DTSTART:20300310T020000
TZOFFSETFROM:-0500
TZOFFSETTO:-0400
RDATE:20310309T020000
END:DAYLIGHT
END:VTIMEZONE
BEGIN:VEVENT
UID:ceb51680-ba5b-464b-8733-b1aab4437672
DTSTAMP:20260422T130858Z
DESCRIPTION:
DTSTART;TZID=America/New_York:20300428T140000
DTEND;TZID=America/New_York:20300428T160000
LOCATION:
SUMMARY:Open hours
END:VEVENT
END:VCALENDAR
