BEGIN:VCALENDAR
VERSION:2.0
PRODID:-//miravenhill.org//NONSGML kigkonsult.se iCalcreator 2.30.10//
CALSCALE:GREGORIAN
METHOD:PUBLISH
UID:ae979cef-7d34-41ca-b4c9-d32df70259c8
X-WR-CALDESC:
X-WR-RELCALID:b5576c60d5ae7ad5e3780a0abda5c83c
X-WR-TIMEZONE:America/New_York
BEGIN:VTIMEZONE
TZID:America/New_York
BEGIN:STANDARD
TZNAME:EST
DTSTART:20291104T020000
TZOFFSETFROM:-0400
TZOFFSETTO:-0500
RDATE:20301103T020000
END:STANDARD
BEGIN:DAYLIGHT
TZNAME:EDT
DTSTART:20300310T020000
TZOFFSETFROM:-0500
TZOFFSETTO:-0400
RDATE:20310309T020000
END:DAYLIGHT
END:VTIMEZONE
BEGIN:VEVENT
UID:3f7b01c2-35e4-4ff1-8d09-f09d82233713
DTSTAMP:20260422T131350Z
DESCRIPTION:
DTSTART;TZID=America/New_York:20300426T190000
DTEND;TZID=America/New_York:20300426T200000
LOCATION:
SUMMARY:Labor Days hours by appointment.
END:VEVENT
END:VCALENDAR
