BEGIN:VCALENDAR
VERSION:2.0
PRODID:-//miravenhill.org//NONSGML kigkonsult.se iCalcreator 2.30.10//
CALSCALE:GREGORIAN
METHOD:PUBLISH
UID:452277be-35bb-457f-913d-ad4f7b8f54cb
X-WR-CALDESC:
X-WR-RELCALID:96c93491a1879bd033c174c864b898dc
X-WR-TIMEZONE:America/New_York
BEGIN:VTIMEZONE
TZID:America/New_York
BEGIN:STANDARD
TZNAME:EST
DTSTART:20291104T020000
TZOFFSETFROM:-0400
TZOFFSETTO:-0500
RDATE:20301103T020000
END:STANDARD
BEGIN:DAYLIGHT
TZNAME:EDT
DTSTART:20300310T020000
TZOFFSETFROM:-0500
TZOFFSETTO:-0400
RDATE:20310309T020000
END:DAYLIGHT
END:VTIMEZONE
BEGIN:VEVENT
UID:c14ce4cf-6b63-43e5-8869-945725af43ae
DTSTAMP:20260422T130608Z
DESCRIPTION:
DTSTART;TZID=America/New_York:20300421T140000
DTEND;TZID=America/New_York:20300421T160000
LOCATION:
SUMMARY:Open hours
END:VEVENT
END:VCALENDAR
