BEGIN:VCALENDAR
VERSION:2.0
PRODID:-//miravenhill.org//NONSGML kigkonsult.se iCalcreator 2.30.10//
CALSCALE:GREGORIAN
METHOD:PUBLISH
UID:5191a977-92fc-4992-abcc-b20894fe5a55
X-WR-CALDESC:
X-WR-RELCALID:f7827e2dd969ed4763ae95a56bd837fb
X-WR-TIMEZONE:America/New_York
BEGIN:VTIMEZONE
TZID:America/New_York
BEGIN:STANDARD
TZNAME:EST
DTSTART:20291104T020000
TZOFFSETFROM:-0400
TZOFFSETTO:-0500
RDATE:20301103T020000
END:STANDARD
BEGIN:DAYLIGHT
TZNAME:EDT
DTSTART:20300310T020000
TZOFFSETFROM:-0500
TZOFFSETTO:-0400
RDATE:20310309T020000
END:DAYLIGHT
END:VTIMEZONE
BEGIN:VEVENT
UID:3b66864e-e338-488e-a55d-41464880214b
DTSTAMP:20260422T131043Z
DESCRIPTION:
DTSTART;TZID=America/New_York:20300414T140000
DTEND;TZID=America/New_York:20300414T160000
LOCATION:
SUMMARY:Open hours
END:VEVENT
END:VCALENDAR
