BEGIN:VCALENDAR
VERSION:2.0
PRODID:-//miravenhill.org//NONSGML kigkonsult.se iCalcreator 2.30.10//
CALSCALE:GREGORIAN
METHOD:PUBLISH
UID:4385d2ff-16a4-4363-9444-89c31fca8f0a
X-WR-CALDESC:
X-WR-RELCALID:8f4433eb6c223bfd60c3927e6844ade2
X-WR-TIMEZONE:America/New_York
BEGIN:VTIMEZONE
TZID:America/New_York
BEGIN:STANDARD
TZNAME:EST
DTSTART:20291104T020000
TZOFFSETFROM:-0400
TZOFFSETTO:-0500
RDATE:20301103T020000
END:STANDARD
BEGIN:DAYLIGHT
TZNAME:EDT
DTSTART:20300310T020000
TZOFFSETFROM:-0500
TZOFFSETTO:-0400
RDATE:20310309T020000
END:DAYLIGHT
END:VTIMEZONE
BEGIN:VEVENT
UID:76668a33-6088-43e0-9470-8858a4b660af
DTSTAMP:20260422T130954Z
DESCRIPTION:
DTSTART;TZID=America/New_York:20300407T140000
DTEND;TZID=America/New_York:20300407T160000
LOCATION:
SUMMARY:Open hours
END:VEVENT
END:VCALENDAR
