BEGIN:VCALENDAR
VERSION:2.0
PRODID:-//miravenhill.org//NONSGML kigkonsult.se iCalcreator 2.30.10//
CALSCALE:GREGORIAN
METHOD:PUBLISH
UID:7237f9d2-e1de-4df9-be15-dc2ca303ca4c
X-WR-CALDESC:
X-WR-RELCALID:d369e1bc44846cf410d068f29a6afe1f
X-WR-TIMEZONE:America/New_York
BEGIN:VTIMEZONE
TZID:America/New_York
BEGIN:STANDARD
TZNAME:EST
DTSTART:20291104T020000
TZOFFSETFROM:-0400
TZOFFSETTO:-0500
RDATE:20301103T020000
END:STANDARD
BEGIN:DAYLIGHT
TZNAME:EDT
DTSTART:20300310T020000
TZOFFSETFROM:-0500
TZOFFSETTO:-0400
RDATE:20310309T020000
END:DAYLIGHT
END:VTIMEZONE
BEGIN:VEVENT
UID:d5a33493-a8e1-418c-8b1a-057f73f70d63
DTSTAMP:20260422T130836Z
DESCRIPTION:
DTSTART;TZID=America/New_York:20300406T120000
DTEND;TZID=America/New_York:20300406T160000
LOCATION:4737 Fuller Rd.\, East Jordan\, MI 49727 US
SUMMARY:Open hours
END:VEVENT
END:VCALENDAR
