BEGIN:VCALENDAR
VERSION:2.0
PRODID:-//miravenhill.org//NONSGML kigkonsult.se iCalcreator 2.30.10//
CALSCALE:GREGORIAN
METHOD:PUBLISH
UID:b4e77b57-8c1d-407e-b6de-dc6ec593b274
X-WR-CALDESC:
X-WR-RELCALID:dce9e59cc610ee34686792bcd3b329e7
X-WR-TIMEZONE:America/New_York
BEGIN:VTIMEZONE
TZID:America/New_York
BEGIN:STANDARD
TZNAME:EST
DTSTART:20291104T020000
TZOFFSETFROM:-0400
TZOFFSETTO:-0500
RDATE:20301103T020000
END:STANDARD
BEGIN:DAYLIGHT
TZNAME:EDT
DTSTART:20300310T020000
TZOFFSETFROM:-0500
TZOFFSETTO:-0400
RDATE:20310309T020000
END:DAYLIGHT
END:VTIMEZONE
BEGIN:VEVENT
UID:55a14d1e-2e6c-432f-8237-fac42c847192
DTSTAMP:20260422T114037Z
DESCRIPTION:
DTSTART;TZID=America/New_York:20300331T140000
DTEND;TZID=America/New_York:20300331T160000
LOCATION:
SUMMARY:Open hours
END:VEVENT
END:VCALENDAR
