BEGIN:VCALENDAR
VERSION:2.0
PRODID:-//miravenhill.org//NONSGML kigkonsult.se iCalcreator 2.30.10//
CALSCALE:GREGORIAN
METHOD:PUBLISH
UID:3c9e7f86-1146-4629-8541-13f22c2038bd
X-WR-CALDESC:
X-WR-RELCALID:d9da04ce657d2094b49f2a2f111b8f1b
X-WR-TIMEZONE:America/New_York
BEGIN:VTIMEZONE
TZID:America/New_York
BEGIN:STANDARD
TZNAME:EST
DTSTART:20291104T020000
TZOFFSETFROM:-0400
TZOFFSETTO:-0500
RDATE:20301103T020000
END:STANDARD
BEGIN:DAYLIGHT
TZNAME:EDT
DTSTART:20300310T020000
TZOFFSETFROM:-0500
TZOFFSETTO:-0400
RDATE:20310309T020000
END:DAYLIGHT
END:VTIMEZONE
BEGIN:VEVENT
UID:28bf2c03-3f37-4752-bba1-c29f84174d25
DTSTAMP:20260422T113723Z
DESCRIPTION:
DTSTART;TZID=America/New_York:20300324T140000
DTEND;TZID=America/New_York:20300324T160000
LOCATION:
SUMMARY:Open hours
END:VEVENT
END:VCALENDAR
