BEGIN:VCALENDAR
VERSION:2.0
PRODID:-//miravenhill.org//NONSGML kigkonsult.se iCalcreator 2.30.10//
CALSCALE:GREGORIAN
METHOD:PUBLISH
UID:1dd89999-c6f2-4fcd-8750-913e6f2e4fbe
X-WR-CALDESC:
X-WR-RELCALID:3bf81ce365a24c6f9dff74c97d4508b6
X-WR-TIMEZONE:America/New_York
BEGIN:VTIMEZONE
TZID:America/New_York
BEGIN:STANDARD
TZNAME:EST
DTSTART:20291104T020000
TZOFFSETFROM:-0400
TZOFFSETTO:-0500
RDATE:20301103T020000
END:STANDARD
BEGIN:DAYLIGHT
TZNAME:EDT
DTSTART:20300310T020000
TZOFFSETFROM:-0500
TZOFFSETTO:-0400
RDATE:20310309T020000
END:DAYLIGHT
END:VTIMEZONE
BEGIN:VEVENT
UID:aca787eb-9fc0-4321-8ecf-2427bf1be7e2
DTSTAMP:20260422T114014Z
DESCRIPTION:
DTSTART;TZID=America/New_York:20300317T140000
DTEND;TZID=America/New_York:20300317T160000
LOCATION:
SUMMARY:Open hours
END:VEVENT
END:VCALENDAR
