BEGIN:VCALENDAR
VERSION:2.0
PRODID:-//miravenhill.org//NONSGML kigkonsult.se iCalcreator 2.30.10//
CALSCALE:GREGORIAN
METHOD:PUBLISH
UID:c9692ef3-c59f-4239-9993-afd0e62620b6
X-WR-CALDESC:
X-WR-RELCALID:0f8e1f94b77b904e8ba51e4633b32713
X-WR-TIMEZONE:America/New_York
BEGIN:VTIMEZONE
TZID:America/New_York
BEGIN:STANDARD
TZNAME:EST
DTSTART:20291104T020000
TZOFFSETFROM:-0400
TZOFFSETTO:-0500
RDATE:20301103T020000
END:STANDARD
BEGIN:DAYLIGHT
TZNAME:EDT
DTSTART:20290311T020000
TZOFFSETFROM:-0500
TZOFFSETTO:-0400
RDATE:20300310T020000
RDATE:20310309T020000
END:DAYLIGHT
END:VTIMEZONE
BEGIN:VEVENT
UID:7874ce3b-3f29-4f07-8b1e-2c9b61c6bcb3
DTSTAMP:20260422T113912Z
DESCRIPTION:
DTSTART;TZID=America/New_York:20300310T140000
DTEND;TZID=America/New_York:20300310T160000
LOCATION:
SUMMARY:Open hours
END:VEVENT
END:VCALENDAR
