BEGIN:VCALENDAR
VERSION:2.0
PRODID:-//miravenhill.org//NONSGML kigkonsult.se iCalcreator 2.30.10//
CALSCALE:GREGORIAN
METHOD:PUBLISH
UID:a7349d61-5696-4c24-b278-0b742db12858
X-WR-CALDESC:
X-WR-RELCALID:8b58eb25ce6aea5fd4d0449914cf10fa
X-WR-TIMEZONE:America/New_York
BEGIN:VTIMEZONE
TZID:America/New_York
BEGIN:STANDARD
TZNAME:EST
DTSTART:20291104T020000
TZOFFSETFROM:-0400
TZOFFSETTO:-0500
RDATE:20301103T020000
END:STANDARD
BEGIN:DAYLIGHT
TZNAME:EDT
DTSTART:20290311T020000
TZOFFSETFROM:-0500
TZOFFSETTO:-0400
RDATE:20300310T020000
RDATE:20310309T020000
END:DAYLIGHT
END:VTIMEZONE
BEGIN:VEVENT
UID:d89a6eef-5bdf-4cd0-a444-0b618e92e76a
DTSTAMP:20260422T095804Z
DESCRIPTION:
DTSTART;TZID=America/New_York:20300224T140000
DTEND;TZID=America/New_York:20300224T160000
LOCATION:
SUMMARY:Open hours
END:VEVENT
END:VCALENDAR
