BEGIN:VCALENDAR
VERSION:2.0
PRODID:-//miravenhill.org//NONSGML kigkonsult.se iCalcreator 2.30.10//
CALSCALE:GREGORIAN
METHOD:PUBLISH
UID:db1dc88b-8410-4132-afe0-c889e33ddd2c
X-WR-CALDESC:
X-WR-RELCALID:3939b3454e62a6ee1d9487fe54010f9b
X-WR-TIMEZONE:America/New_York
BEGIN:VTIMEZONE
TZID:America/New_York
BEGIN:STANDARD
TZNAME:EST
DTSTART:20291104T020000
TZOFFSETFROM:-0400
TZOFFSETTO:-0500
RDATE:20301103T020000
END:STANDARD
BEGIN:DAYLIGHT
TZNAME:EDT
DTSTART:20290311T020000
TZOFFSETFROM:-0500
TZOFFSETTO:-0400
RDATE:20300310T020000
RDATE:20310309T020000
END:DAYLIGHT
END:VTIMEZONE
BEGIN:VEVENT
UID:a4a7d5eb-26ed-4e34-80f0-6a02f34b134e
DTSTAMP:20260422T095135Z
DESCRIPTION:
DTSTART;TZID=America/New_York:20300223T120000
DTEND;TZID=America/New_York:20300223T160000
LOCATION:4737 Fuller Rd.\, East Jordan\, MI 49727 US
SUMMARY:Open hours
END:VEVENT
END:VCALENDAR
