BEGIN:VCALENDAR
VERSION:2.0
PRODID:-//miravenhill.org//NONSGML kigkonsult.se iCalcreator 2.30.10//
CALSCALE:GREGORIAN
METHOD:PUBLISH
UID:c1a344ac-4edb-4dfe-a1ee-22f26dcc2af4
X-WR-CALDESC:
X-WR-RELCALID:4a5b024541cd72f68c28b40bf0f7ed02
X-WR-TIMEZONE:America/New_York
BEGIN:VTIMEZONE
TZID:America/New_York
BEGIN:STANDARD
TZNAME:EST
DTSTART:20291104T020000
TZOFFSETFROM:-0400
TZOFFSETTO:-0500
RDATE:20301103T020000
END:STANDARD
BEGIN:DAYLIGHT
TZNAME:EDT
DTSTART:20290311T020000
TZOFFSETFROM:-0500
TZOFFSETTO:-0400
RDATE:20300310T020000
RDATE:20310309T020000
END:DAYLIGHT
END:VTIMEZONE
BEGIN:VEVENT
UID:281de98f-dacc-4597-921a-6a2c6ab3b81e
DTSTAMP:20260422T101648Z
DESCRIPTION:
DTSTART;TZID=America/New_York:20300217T140000
DTEND;TZID=America/New_York:20300217T160000
LOCATION:
SUMMARY:Open hours
END:VEVENT
END:VCALENDAR
