BEGIN:VCALENDAR
VERSION:2.0
PRODID:-//miravenhill.org//NONSGML kigkonsult.se iCalcreator 2.30.10//
CALSCALE:GREGORIAN
METHOD:PUBLISH
UID:3cf6d62c-e2fd-4552-b1d3-d30982954e51
X-WR-CALDESC:
X-WR-RELCALID:d0c65b846e2b536557d9e72d57082f58
X-WR-TIMEZONE:America/New_York
BEGIN:VTIMEZONE
TZID:America/New_York
BEGIN:STANDARD
TZNAME:EST
DTSTART:20291104T020000
TZOFFSETFROM:-0400
TZOFFSETTO:-0500
RDATE:20301103T020000
END:STANDARD
BEGIN:DAYLIGHT
TZNAME:EDT
DTSTART:20290311T020000
TZOFFSETFROM:-0500
TZOFFSETTO:-0400
RDATE:20300310T020000
RDATE:20310309T020000
END:DAYLIGHT
END:VTIMEZONE
BEGIN:VEVENT
UID:5e90b04c-3705-4341-844a-807a72491a45
DTSTAMP:20260422T095759Z
DESCRIPTION:
DTSTART;TZID=America/New_York:20300210T140000
DTEND;TZID=America/New_York:20300210T160000
LOCATION:
SUMMARY:Open hours
END:VEVENT
END:VCALENDAR
