BEGIN:VCALENDAR
VERSION:2.0
PRODID:-//miravenhill.org//NONSGML kigkonsult.se iCalcreator 2.30.10//
CALSCALE:GREGORIAN
METHOD:PUBLISH
UID:48e67f94-72ac-4468-af69-3b7c6c6a472e
X-WR-CALDESC:
X-WR-RELCALID:6d69ba0ec3f5839095af607f03f304b1
X-WR-TIMEZONE:America/New_York
BEGIN:VTIMEZONE
TZID:America/New_York
BEGIN:STANDARD
TZNAME:EST
DTSTART:20291104T020000
TZOFFSETFROM:-0400
TZOFFSETTO:-0500
RDATE:20301103T020000
END:STANDARD
BEGIN:DAYLIGHT
TZNAME:EDT
DTSTART:20290311T020000
TZOFFSETFROM:-0500
TZOFFSETTO:-0400
RDATE:20300310T020000
RDATE:20310309T020000
END:DAYLIGHT
END:VTIMEZONE
BEGIN:VEVENT
UID:eaa2233b-41fe-4a12-b929-36f57a861686
DTSTAMP:20260422T103518Z
DESCRIPTION:
DTSTART;TZID=America/New_York:20300203T140000
DTEND;TZID=America/New_York:20300203T160000
LOCATION:
SUMMARY:Open hours
END:VEVENT
END:VCALENDAR
