BEGIN:VCALENDAR
VERSION:2.0
PRODID:-//miravenhill.org//NONSGML kigkonsult.se iCalcreator 2.30.10//
CALSCALE:GREGORIAN
METHOD:PUBLISH
UID:8d8e9806-794d-4802-a7ba-a07205beed59
X-WR-CALDESC:
X-WR-RELCALID:ab9512623cd43db80040cb3bd1576129
X-WR-TIMEZONE:America/New_York
BEGIN:VTIMEZONE
TZID:America/New_York
BEGIN:STANDARD
TZNAME:EST
DTSTART:20291104T020000
TZOFFSETFROM:-0400
TZOFFSETTO:-0500
RDATE:20301103T020000
END:STANDARD
BEGIN:DAYLIGHT
TZNAME:EDT
DTSTART:20290311T020000
TZOFFSETFROM:-0500
TZOFFSETTO:-0400
RDATE:20300310T020000
RDATE:20310309T020000
END:DAYLIGHT
END:VTIMEZONE
BEGIN:VEVENT
UID:469c9719-80ab-40a9-8461-57b684482158
DTSTAMP:20260422T084625Z
DESCRIPTION:
DTSTART;TZID=America/New_York:20300127T140000
DTEND;TZID=America/New_York:20300127T160000
LOCATION:
SUMMARY:Open hours
END:VEVENT
END:VCALENDAR
