BEGIN:VCALENDAR
VERSION:2.0
PRODID:-//miravenhill.org//NONSGML kigkonsult.se iCalcreator 2.30.10//
CALSCALE:GREGORIAN
METHOD:PUBLISH
UID:a5658eca-3e48-4b4e-a5a6-1d81e2ab11d5
X-WR-CALDESC:
X-WR-RELCALID:8261ccf9c8fbe1bf9a30805e69a3070e
X-WR-TIMEZONE:America/New_York
BEGIN:VTIMEZONE
TZID:America/New_York
BEGIN:STANDARD
TZNAME:EST
DTSTART:20291104T020000
TZOFFSETFROM:-0400
TZOFFSETTO:-0500
RDATE:20301103T020000
END:STANDARD
BEGIN:DAYLIGHT
TZNAME:EDT
DTSTART:20290311T020000
TZOFFSETFROM:-0500
TZOFFSETTO:-0400
RDATE:20300310T020000
RDATE:20310309T020000
END:DAYLIGHT
END:VTIMEZONE
BEGIN:VEVENT
UID:ebd7233f-a0bf-4e75-93fd-369f316a3516
DTSTAMP:20260422T082821Z
DESCRIPTION:
DTSTART;TZID=America/New_York:20300120T140000
DTEND;TZID=America/New_York:20300120T160000
LOCATION:
SUMMARY:Open hours
END:VEVENT
END:VCALENDAR
