BEGIN:VCALENDAR
VERSION:2.0
PRODID:-//miravenhill.org//NONSGML kigkonsult.se iCalcreator 2.30.10//
CALSCALE:GREGORIAN
METHOD:PUBLISH
UID:ce2b3a0a-1d35-4cb5-acb2-0a8baa31ad7f
X-WR-CALDESC:
X-WR-RELCALID:8512f1982886e195375e1119341f36c9
X-WR-TIMEZONE:America/New_York
BEGIN:VTIMEZONE
TZID:America/New_York
BEGIN:STANDARD
TZNAME:EST
DTSTART:20291104T020000
TZOFFSETFROM:-0400
TZOFFSETTO:-0500
RDATE:20301103T020000
END:STANDARD
BEGIN:DAYLIGHT
TZNAME:EDT
DTSTART:20290311T020000
TZOFFSETFROM:-0500
TZOFFSETTO:-0400
RDATE:20300310T020000
RDATE:20310309T020000
END:DAYLIGHT
END:VTIMEZONE
BEGIN:VEVENT
UID:7eed7ba1-8c7b-4f5e-bd43-5b98380bdb25
DTSTAMP:20260422T084453Z
DESCRIPTION:
DTSTART;TZID=America/New_York:20300113T140000
DTEND;TZID=America/New_York:20300113T160000
LOCATION:
SUMMARY:Open hours
END:VEVENT
END:VCALENDAR
