BEGIN:VCALENDAR
VERSION:2.0
PRODID:-//miravenhill.org//NONSGML kigkonsult.se iCalcreator 2.30.10//
CALSCALE:GREGORIAN
METHOD:PUBLISH
UID:0f9a7d62-5a1c-4d22-a2d9-078c70cca9cc
X-WR-CALDESC:
X-WR-RELCALID:95d8164c05fe1bcc36595a0c642fad74
X-WR-TIMEZONE:America/New_York
BEGIN:VTIMEZONE
TZID:America/New_York
BEGIN:STANDARD
TZNAME:EST
DTSTART:20291104T020000
TZOFFSETFROM:-0400
TZOFFSETTO:-0500
RDATE:20301103T020000
END:STANDARD
BEGIN:DAYLIGHT
TZNAME:EDT
DTSTART:20290311T020000
TZOFFSETFROM:-0500
TZOFFSETTO:-0400
RDATE:20300310T020000
RDATE:20310309T020000
END:DAYLIGHT
END:VTIMEZONE
BEGIN:VEVENT
UID:2a3ad963-df23-453f-92cf-b41e8ac5e454
DTSTAMP:20260422T082656Z
DESCRIPTION:
DTSTART;TZID=America/New_York:20300106T140000
DTEND;TZID=America/New_York:20300106T160000
LOCATION:
SUMMARY:Open hours
END:VEVENT
END:VCALENDAR
